BEGIN:VCALENDAR
VERSION:2.0
PRODID:-//midlandshumanesociety.org//NONSGML kigkonsult.se iCalcreator 2.30
 .10//
CALSCALE:GREGORIAN
METHOD:PUBLISH
UID:7b50d0fd-63f2-425f-80c5-e8dc2982c952
X-WR-CALDESC:Join Midlands Humane Society at PetSmart in Omaha during Natio
 nal Adoption Week and help us make a life-changing impact for pets in need
 !\n\nWe'll be onsite with some of our adorable\, adoptable pets—ready to f
 ind their perfect match. Every adoption during this special week helps us 
 do even more for the animals in our care!\n\nNow is the perfect time to op
 en your heart and home to a new furry friend—and help MHS continue its mis
 sion of saving lives.\n\nWhether you're ready to adopt or just want to sto
 p by and show support\, we’d love to see you!
X-WR-RELCALID:51a247124870753134db30d7cf258160
X-WR-TIMEZONE:America/Chicago
BEGIN:VTIMEZONE
TZID:America/Chicago
BEGIN:STANDARD
TZNAME:CST
DTSTART:20241103T020000
TZOFFSETFROM:-0500
TZOFFSETTO:-0600
RDATE:20251102T020000
RDATE:20261101T020000
END:STANDARD
BEGIN:DAYLIGHT
TZNAME:CDT
DTSTART:20250309T020000
TZOFFSETFROM:-0600
TZOFFSETTO:-0500
RDATE:20260308T020000
RDATE:20270314T020000
END:DAYLIGHT
END:VTIMEZONE
BEGIN:VEVENT
UID:d93697e7-2bcc-47ef-87e9-4d62943690b7
DTSTAMP:20260421T083329Z
DESCRIPTION:Join Midlands Humane Society at PetSmart in Omaha during Nation
 al Adoption Week and help us make a life-changing impact for pets in need!
 \n\nWe'll be onsite with some of our adorable\, adoptable pets—ready to fi
 nd their perfect match. Every adoption during this special week helps us d
 o even more for the animals in our care!\n\nNow is the perfect time to ope
 n your heart and home to a new furry friend—and help MHS continue its miss
 ion of saving lives.\n\nWhether you're ready to adopt or just want to stop
  by and show support\, we’d love to see you!
DTSTART;TZID=America/Chicago:20251023T150000
DTEND;TZID=America/Chicago:20251023T180000
LOCATION:6220 N. 73rd Plz\, Omaha\, NE 68134 US
SUMMARY:National Adoption Week Offsite Event
END:VEVENT
END:VCALENDAR
