BEGIN:VCALENDAR
VERSION:2.0
PRODID:-//midlandshumanesociety.org//NONSGML kigkonsult.se iCalcreator 2.30
 .10//
CALSCALE:GREGORIAN
METHOD:PUBLISH
UID:39812c7d-4d66-4b5c-a975-f836e55eb253
X-WR-CALDESC:This year’s event will run from 12:00- 4:00pm on Sunday\, Augu
 st 27th at Iowa Western Community College in Council Bluffs\, IA.\nWe will
  accept day-of registrations from 9:00-12:00pm\, but we do encourage pre-r
 egistrations which will go live on Friday\, June 23rd! Links for registrat
 ion will be posted on MHS social media and on the website and paper forms 
 will be available at the MHS front desk.\nWe will feature 14 vehicle class
 es with 1st\, 2nd\, & 3rd place trophies in each\, along with offering a s
 pecialty trophy in 5 “Best of” categories too! Do you have kids\, grandkid
 s\, nieces or nephews who also love their cars? They can join our brand ne
 w 'Kids' class for kiddos 10 years old and under! Awards will be at 3PM.\n
 Dash Plaques to the first 100 entrants.\n$25 per car entry. If registered 
 by August 1\, you will receive a FREE event T-Shirt. Additional shirts are
  $20.\nSponsorship opportunities available!
X-WR-RELCALID:0a93bf6331c0ac2d32c68f07fd24e0db
X-WR-TIMEZONE:America/Chicago
BEGIN:VTIMEZONE
TZID:America/Chicago
BEGIN:STANDARD
TZNAME:CST
DTSTART:20221106T020000
TZOFFSETFROM:-0500
TZOFFSETTO:-0600
RDATE:20231105T020000
RDATE:20241103T020000
END:STANDARD
BEGIN:DAYLIGHT
TZNAME:CDT
DTSTART:20230312T020000
TZOFFSETFROM:-0600
TZOFFSETTO:-0500
RDATE:20240310T020000
END:DAYLIGHT
END:VTIMEZONE
BEGIN:VEVENT
UID:f2f8293b-9a73-42c4-8060-37d281475790
DTSTAMP:20260421T114024Z
DESCRIPTION:This year’s event will run from 12:00- 4:00pm on Sunday\, Augus
 t 27th at Iowa Western Community College in Council Bluffs\, IA.\nWe will 
 accept day-of registrations from 9:00-12:00pm\, but we do encourage pre-re
 gistrations which will go live on Friday\, June 23rd! Links for registrati
 on will be posted on MHS social media and on the website and paper forms w
 ill be available at the MHS front desk.\nWe will feature 14 vehicle classe
 s with 1st\, 2nd\, & 3rd place trophies in each\, along with offering a sp
 ecialty trophy in 5 “Best of” categories too! Do you have kids\, grandkids
 \, nieces or nephews who also love their cars? They can join our brand new
  'Kids' class for kiddos 10 years old and under! Awards will be at 3PM.\nD
 ash Plaques to the first 100 entrants.\n$25 per car entry. If registered b
 y August 1\, you will receive a FREE event T-Shirt. Additional shirts are 
 $20.\nSponsorship opportunities available!
DTSTART;TZID=America/Chicago:20230827T120000
DTEND;TZID=America/Chicago:20230827T160000
LOCATION:Iowa Western Community College
SUMMARY:6th Annual Wags & Wheels Car Show
END:VEVENT
END:VCALENDAR
