BEGIN:VCALENDAR
VERSION:2.0
PRODID:-//midlandshumanesociety.org//NONSGML kigkonsult.se iCalcreator 2.30
 .10//
CALSCALE:GREGORIAN
METHOD:PUBLISH
UID:e31e0573-ab35-4960-9f76-5aa6f42e8865
X-WR-CALDESC:Join fellow animal enthusiasts at the 2023 MHS Gala. Together 
 we can celebrate all the wonderful ways that pets enrich our lives. The ev
 ening's festivities start at 5pm with a social hour\, followed by a delici
 ous dinner buffet. Guests can browse and bid on hundreds of silent auction
  items. An emcee keeps the activities rolling with a fun filled live aucti
 on! To cap off the evening\, guests will be treated to an Animal Entertain
 ment Show. Proceeds from this event go to help animals at the Midlands Hum
 ane Society all year long.
X-WR-RELCALID:c23e6d3e159d75d325003dcc7e37ba2c
X-WR-TIMEZONE:America/Chicago
BEGIN:VTIMEZONE
TZID:America/Chicago
BEGIN:STANDARD
TZNAME:CST
DTSTART:20221106T020000
TZOFFSETFROM:-0500
TZOFFSETTO:-0600
RDATE:20231105T020000
RDATE:20241103T020000
END:STANDARD
BEGIN:DAYLIGHT
TZNAME:CDT
DTSTART:20230312T020000
TZOFFSETFROM:-0600
TZOFFSETTO:-0500
RDATE:20240310T020000
END:DAYLIGHT
END:VTIMEZONE
BEGIN:VEVENT
UID:deeb9705-5434-4d3e-82bf-f08665c98545
DTSTAMP:20260421T165027Z
DESCRIPTION:Join fellow animal enthusiasts at the 2023 MHS Gala. Together w
 e can celebrate all the wonderful ways that pets enrich our lives. The eve
 ning's festivities start at 5pm with a social hour\, followed by a delicio
 us dinner buffet. Guests can browse and bid on hundreds of silent auction 
 items. An emcee keeps the activities rolling with a fun filled live auctio
 n! To cap off the evening\, guests will be treated to an Animal Entertainm
 ent Show. Proceeds from this event go to help animals at the Midlands Huma
 ne Society all year long.
DTSTART;TZID=America/Chicago:20230512T170000
DTEND;TZID=America/Chicago:20230512T210000
LOCATION:1 Arena Way\, Mid-America Center\, Council Bluffs\, IA 51503 US
SUMMARY:MHS Annual Gala
END:VEVENT
END:VCALENDAR
