BEGIN:VCALENDAR
VERSION:2.0
PRODID:-//midlandshumanesociety.org//NONSGML kigkonsult.se iCalcreator 2.30
 .10//
CALSCALE:GREGORIAN
METHOD:PUBLISH
UID:a63df488-78a2-4d19-9578-dceecc8eca70
X-WR-CALDESC:
X-WR-RELCALID:7d29b035997a0bd213f6cb73f76ff441
X-WR-TIMEZONE:America/Chicago
BEGIN:VTIMEZONE
TZID:America/Chicago
BEGIN:STANDARD
TZNAME:CST
DTSTART:20211107T020000
TZOFFSETFROM:-0500
TZOFFSETTO:-0600
RDATE:20221106T020000
RDATE:20231105T020000
END:STANDARD
BEGIN:DAYLIGHT
TZNAME:CDT
DTSTART:20220313T020000
TZOFFSETFROM:-0600
TZOFFSETTO:-0500
RDATE:20230312T020000
END:DAYLIGHT
END:VTIMEZONE
BEGIN:VEVENT
UID:7196cf19-769b-423a-84e0-2f351ca8e8f1
DTSTAMP:20260422T085638Z
DESCRIPTION:
DTSTART;TZID=America/Chicago:20220828T120000
DTEND;TZID=America/Chicago:20220828T160000
LOCATION:
SUMMARY:Wags & Wheels Car Show
END:VEVENT
END:VCALENDAR
