BEGIN:VCALENDAR
VERSION:2.0
PRODID:-//midlandshumanesociety.org//NONSGML kigkonsult.se iCalcreator 2.30
 .10//
CALSCALE:GREGORIAN
METHOD:PUBLISH
UID:03d8f77b-b577-4b26-be35-966501866a82
X-WR-CALDESC:
X-WR-RELCALID:93dbae7ddd200d007f69e5fe635e3673
X-WR-TIMEZONE:America/Chicago
BEGIN:VTIMEZONE
TZID:America/Chicago
BEGIN:STANDARD
TZNAME:CST
DTSTART:20211107T020000
TZOFFSETFROM:-0500
TZOFFSETTO:-0600
RDATE:20221106T020000
RDATE:20231105T020000
END:STANDARD
BEGIN:DAYLIGHT
TZNAME:CDT
DTSTART:20220313T020000
TZOFFSETFROM:-0600
TZOFFSETTO:-0500
RDATE:20230312T020000
END:DAYLIGHT
END:VTIMEZONE
BEGIN:VEVENT
UID:0670f79a-107b-4445-bd67-fb71ece938e6
DTSTAMP:20260422T142023Z
DESCRIPTION:
DTSTART;TZID=America/Chicago:20220521T120000
DTEND;TZID=America/Chicago:20220528T170000
LOCATION:
SUMMARY:Memorial Day Adoption Specials 'Name your Adoption Fee'
END:VEVENT
END:VCALENDAR
