BEGIN:VCALENDAR
VERSION:2.0
PRODID:-//midlandshumanesociety.org//NONSGML kigkonsult.se iCalcreator 2.30
 .10//
CALSCALE:GREGORIAN
METHOD:PUBLISH
UID:3c1e9ecb-de9b-418f-9a7d-597e41cb250a
X-WR-CALDESC:2022 marks the 14th Anniversary of this amazing evening among 
 the animals!  With a social hour beginning at 5pm and a chance to peruse a
 ll the great auction items in person\, checking out all the other items fo
 r sale (flowers\, wine pull &raffles)\, visiting with some amazing animals
  all while sipping away at your beverage of choice - you don't want to mis
 s it!  Dinner and Program begins at 6:30 facilitated by a lively emcee and
  concludes with a Fashion Show that will warm your heart and tickle your f
 unny bone!
X-WR-RELCALID:f916e007c569a09f4dc6cfc9f02e77c2
X-WR-TIMEZONE:America/Chicago
BEGIN:VTIMEZONE
TZID:America/Chicago
BEGIN:STANDARD
TZNAME:CST
DTSTART:20211107T020000
TZOFFSETFROM:-0500
TZOFFSETTO:-0600
RDATE:20221106T020000
RDATE:20231105T020000
END:STANDARD
BEGIN:DAYLIGHT
TZNAME:CDT
DTSTART:20220313T020000
TZOFFSETFROM:-0600
TZOFFSETTO:-0500
RDATE:20230312T020000
END:DAYLIGHT
END:VTIMEZONE
BEGIN:VEVENT
UID:7dfae0f2-3092-4f82-a3c6-ba7b65cf8a99
DTSTAMP:20260422T143037Z
DESCRIPTION:2022 marks the 14th Anniversary of this amazing evening among t
 he animals!  With a social hour beginning at 5pm and a chance to peruse al
 l the great auction items in person\, checking out all the other items for
  sale (flowers\, wine pull &raffles)\, visiting with some amazing animals 
 all while sipping away at your beverage of choice - you don't want to miss
  it!  Dinner and Program begins at 6:30 facilitated by a lively emcee and 
 concludes with a Fashion Show that will warm your heart and tickle your fu
 nny bone!
DTSTART;TZID=America/Chicago:20220513T170000
DTEND;TZID=America/Chicago:20220513T210000
LOCATION:
SUMMARY:MHS Annual Gala 'Adoption & Adventure Go Hand in Paw'
END:VEVENT
END:VCALENDAR
