BEGIN:VCALENDAR
VERSION:2.0
PRODID:-//midlandshumanesociety.org//NONSGML kigkonsult.se iCalcreator 2.30
 .10//
CALSCALE:GREGORIAN
METHOD:PUBLISH
UID:344768e7-2e12-4d18-9773-09742dc9fd07
X-WR-CALDESC:Enjoy animal interactions\, amazing silent and live auctions\,
  a delicious dinner\, an entertaining emcee and auctioneer while you exper
 ience the stories about your local humane society
X-WR-RELCALID:ef30eee60d2f9316fccc40c52f8ceffe
X-WR-TIMEZONE:America/Chicago
BEGIN:VTIMEZONE
TZID:America/Chicago
BEGIN:STANDARD
TZNAME:CST
DTSTART:20201101T020000
TZOFFSETFROM:-0500
TZOFFSETTO:-0600
RDATE:20211107T020000
RDATE:20221106T020000
END:STANDARD
BEGIN:DAYLIGHT
TZNAME:CDT
DTSTART:20210314T020000
TZOFFSETFROM:-0600
TZOFFSETTO:-0500
RDATE:20220313T020000
RDATE:20230312T020000
END:DAYLIGHT
END:VTIMEZONE
BEGIN:VEVENT
UID:6672de00-4262-41e6-ba18-7219ae8c53e3
DTSTAMP:20260423T050318Z
DESCRIPTION:Enjoy animal interactions\, amazing silent and live auctions\, 
 a delicious dinner\, an entertaining emcee and auctioneer while you experi
 ence the stories about your local humane society
DTSTART;TZID=America/Chicago:20210917T000000
DTEND;TZID=America/Chicago:20210917T235900
LOCATION:Have a BLAST at the 2021 MHS Annual Gala
SUMMARY:MHS Annual Gala
END:VEVENT
END:VCALENDAR
