BEGIN:VCALENDAR
VERSION:2.0
PRODID:-//midlandshumanesociety.org//NONSGML kigkonsult.se iCalcreator 2.30
 .10//
CALSCALE:GREGORIAN
METHOD:PUBLISH
UID:0eccea8c-3238-416c-ab72-2bc7c7a4285a
X-WR-CALDESC:Get your motor running with the 4th Annual Wags & Wheels Car S
 how\, a fundraising event for the animals at the Midlands Humane Society. 
  The 2021 event will be held Sunday\, August 29 from 12- 4pm at McCoy’s/Th
 underbowl in Council Bluffs.  All participants can enjoy great food & drin
 k specials\, an air-conditioned building\, indoor restrooms\, live music\,
  raffle prizes and adoptable animals — Wags & Wheels offers something for 
 everyone!  Registrations are encouraged ahead of time\, but (if room) can 
 be done day of event starting at 9am.\n
X-WR-RELCALID:85fe6eba0b6bf958bc6d31fff71e4413
X-WR-TIMEZONE:America/Chicago
BEGIN:VTIMEZONE
TZID:America/Chicago
BEGIN:STANDARD
TZNAME:CST
DTSTART:20201101T020000
TZOFFSETFROM:-0500
TZOFFSETTO:-0600
RDATE:20211107T020000
RDATE:20221106T020000
END:STANDARD
BEGIN:DAYLIGHT
TZNAME:CDT
DTSTART:20210314T020000
TZOFFSETFROM:-0600
TZOFFSETTO:-0500
RDATE:20220313T020000
END:DAYLIGHT
END:VTIMEZONE
BEGIN:VEVENT
UID:cf670bc9-c2e6-4c4d-94f4-d7c0aa56830d
DTSTAMP:20260423T065413Z
DESCRIPTION:Get your motor running with the 4th Annual Wags & Wheels Car Sh
 ow\, a fundraising event for the animals at the Midlands Humane Society.  
 The 2021 event will be held Sunday\, August 29 from 12- 4pm at McCoy’s/Thu
 nderbowl in Council Bluffs.  All participants can enjoy great food & drink
  specials\, an air-conditioned building\, indoor restrooms\, live music\, 
 raffle prizes and adoptable animals — Wags & Wheels offers something for e
 veryone!  Registrations are encouraged ahead of time\, but (if room) can b
 e done day of event starting at 9am.\n
DTSTART;TZID=America/Chicago:20210829T120000
DTEND;TZID=America/Chicago:20210829T160000
LOCATION:Get your motor runnin' at the MHS Car Show!
SUMMARY:4th Annual Wags & Wheels Car Show
END:VEVENT
END:VCALENDAR
