BEGIN:VCALENDAR
VERSION:2.0
PRODID:-//midlandshumanesociety.org//NONSGML kigkonsult.se iCalcreator 2.30
 .10//
CALSCALE:GREGORIAN
METHOD:PUBLISH
UID:6530e26d-5b86-4a45-a13d-ea8b697ec809
X-WR-CALDESC:Whether you want to donate dollars\, products\, or time\, Do G
 ood Week is a great time to get to know Midlands Humane Society!
X-WR-RELCALID:6d95fd6c9b6c97451ee6d2a7404af9f3
X-WR-TIMEZONE:America/Chicago
BEGIN:VTIMEZONE
TZID:America/Chicago
BEGIN:STANDARD
TZNAME:CST
DTSTART:20201101T020000
TZOFFSETFROM:-0500
TZOFFSETTO:-0600
RDATE:20211107T020000
END:STANDARD
BEGIN:DAYLIGHT
TZNAME:CDT
DTSTART:20210314T020000
TZOFFSETFROM:-0600
TZOFFSETTO:-0500
RDATE:20220313T020000
END:DAYLIGHT
END:VTIMEZONE
BEGIN:VEVENT
UID:32482523-0143-469e-95e5-69aeb1ab9741
DTSTAMP:20260423T134858Z
DESCRIPTION:Whether you want to donate dollars\, products\, or time\, Do Go
 od Week is a great time to get to know Midlands Humane Society!
DTSTART;TZID=America/Chicago:20210419T000000
DTEND;TZID=America/Chicago:20210424T235900
LOCATION:Help MHS during Do Good Week
SUMMARY:Do Good Week
END:VEVENT
END:VCALENDAR
